BEGIN:VCALENDAR
VERSION:2.0
PRODID:TypiCMS
BEGIN:VEVENT
UID:69eca69cc88d5
DTSTART;VALUE=DATE:20260121
SEQUENCE:0
TRANSP:OPAQUE
DTEND;VALUE=DATE:20260127
SUMMARY:Civilisations
CLASS:PUBLIC
X-MICROSOFT-CDO-ALLDAYEVENT:TRUE
DTSTAMP:20260425T113348Z
END:VEVENT
END:VCALENDAR